BEGIN:VCALENDAR
VERSION:2.0
PRODID:-//Squarespace Inc/Squarespace 6//v6//EN
BEGIN:VEVENT
UID:5d114644b2e5b40001fc8197@squarespace.com
DTSTAMP:20190828T004808Z
DTSTART:20190830T213000Z
DTEND:20190831T050000Z
SUMMARY:Day Retreat: Connect with your Vitality
GEO:-36.931076;174.700267
LOCATION:Blockhouse Bay Boat Club\, 91 Endeavour Street\, Auckland\, Auckla
 nd\, 0600\, New Zealand
END:VEVENT
END:VCALENDAR
