BEGIN:VCALENDAR
VERSION:2.0
PRODID:-//Squarespace Inc/Squarespace 6//v6//EN
BEGIN:VEVENT
UID:5d113ebfcd32d700018a5ddb@squarespace.com
DTSTAMP:20190828T005314Z
DTSTART:20190728T053000Z
DTEND:20190728T073000Z
SUMMARY:Monthly Reconnect - July 2019
GEO:-36.919998;174.67682
LOCATION:Sista Trio Headquarters\, 54 Willerton Avenue\, Auckland\, Aucklan
 d\, 0600\, New Zealand
END:VEVENT
END:VCALENDAR
