BEGIN:VCALENDAR
VERSION:2.0
PRODID:-//Squarespace Inc/Squarespace 6//v6//EN
BEGIN:VEVENT
UID:5d9aee587e19f6412afaa876@squarespace.com
DTSTAMP:20191217T210416Z
DTSTART:20201213T043000Z
DTEND:20201213T063000Z
SUMMARY:Reconnect: Sista Trio Tribe X-Mas Party!
GEO:-36.919998;174.67682
LOCATION:Sista Trio's West AK Headquarters\, Coryn's Cosy Naturopath Clinic 
 Space\, 54 Willerton Avenue\, New Lynn\, Auckland\, 0600
END:VEVENT
END:VCALENDAR
