BEGIN:VCALENDAR
VERSION:2.0
PRODID:-//Squarespace Inc/Squarespace 6//v6//EN
BEGIN:VEVENT
UID:5d9aed0aa141d425ee292a3d@squarespace.com
DTSTAMP:20191007T074958Z
DTSTART:20201018T043000Z
DTEND:20201018T063000Z
SUMMARY:Reconnect: Breathe Easy
GEO:-36.919998;174.67682
LOCATION:Sista Trio's West AK Headquarters\, Coryn's Cosy Naturopath Clinic 
 Space\, 54 Willerton Avenue\, New Lynn\, Auckland\, 0600
END:VEVENT
END:VCALENDAR
