BEGIN:VCALENDAR
VERSION:2.0
PRODID:-//Squarespace Inc/Squarespace 6//v6//EN
BEGIN:VEVENT
UID:5d9aebe9dee9214f7c264f05@squarespace.com
DTSTAMP:20191010T014432Z
DTSTART:20200823T053000Z
DTEND:20200823T073000Z
SUMMARY:Reconnect: Depression and Anxiety-The Naturopathic and Yogic Way to
 wards peace
GEO:-36.919998;174.67682
LOCATION:Sista Trio's West AK Headquarters\, Coryn's Cosy Naturopath Clinic 
 Space\, 54 Willerton Avenue\, New Lynn\, Auckland\, 0600
END:VEVENT
END:VCALENDAR
