BEGIN:VCALENDAR
VERSION:2.0
PRODID:-//Squarespace Inc/Squarespace 6//v6//EN
BEGIN:VEVENT
UID:5d9aea8864d4b90d4661261e@squarespace.com
DTSTAMP:20191007T073947Z
DTSTART:20200628T053000Z
DTEND:20200628T073000Z
SUMMARY:Reconnect: Winter Wellness
GEO:-36.919998;174.67682
LOCATION:Sista Trio's West AK Headquarters\, Coryn's Cosy Naturopath Clinic 
 Space\, 54 Willerton Avenue\, New Lynn\, Auckland\, 0600
END:VEVENT
END:VCALENDAR
