BEGIN:VCALENDAR
VERSION:2.0
PRODID:-//Squarespace Inc/Squarespace 6//v6//EN
BEGIN:VEVENT
UID:5d9ae984bf558c7eaa17de82@squarespace.com
DTSTAMP:20191010T014228Z
DTSTART:20200503T053000Z
DTEND:20200503T073000Z
SUMMARY:Reconnect: Why connection is so vital to our wellbeing
GEO:-36.919998;174.67682
LOCATION:Sista Trio's West AK Headquarters\, Coryn's Cosy Naturopath Clinic 
 Space\, 54 Willerton Avenue\, New Lynn\, Auckland\, 0600
END:VEVENT
END:VCALENDAR
