BEGIN:VCALENDAR
VERSION:2.0
PRODID:-//Squarespace Inc/Squarespace 6//v6//EN
BEGIN:VEVENT
UID:5d9e8f8c2fe40301d4582a7e@squarespace.com
DTSTAMP:20191217T210247Z
DTSTART:20200726T053000Z
DTEND:20200726T073000Z
SUMMARY:Reconnect: Brain Fog
GEO:-36.802944;174.713097
LOCATION:Sista Trio's North Shore Headquarters\, THE 'TAJ' - Jen's Boutique 
 Yoga Place\, 134 Verran Road\, Birkenhead\, Auckland\, 0626
END:VEVENT
END:VCALENDAR
