BEGIN:VCALENDAR
VERSION:2.0
PRODID:-//Squarespace Inc/Squarespace 6//v6//EN
BEGIN:VEVENT
UID:5d9e8e9a7bdd8046dbfa577f@squarespace.com
DTSTAMP:20191217T210216Z
DTSTART:20200531T053000Z
DTEND:20200531T073000Z
SUMMARY:Reconnect: Slow the F**k down!
GEO:-36.802944;174.713097
LOCATION:Sista Trio's North Shore Headquarters\, THE 'TAJ' - Jen's Boutique 
 Yoga Place\, 134 Verran Road\, Birkenhead\, Auckland\, 0626
END:VEVENT
END:VCALENDAR
