BEGIN:VCALENDAR
VERSION:2.0
PRODID:-//Squarespace Inc/Squarespace 6//v6//EN
BEGIN:VEVENT
UID:5df7c2eeff23cf1f358a5b4b@squarespace.com
DTSTAMP:20191216T175749Z
DTSTART:20200209T043000Z
DTEND:20200209T063000Z
SUMMARY:Reconnect: Diets don't work!
GEO:-36.802944;174.713097
LOCATION:Sista Trio's North Shore Headquarters\, THE 'TAJ' - Jen's Boutique 
 Yoga Place\, 134 Verran Road\, Birkenhead\, Auckland\, 0626
END:VEVENT
END:VCALENDAR
