BEGIN:VCALENDAR
VERSION:2.0
PRODID:-//Squarespace Inc/Squarespace 6//v6//EN
BEGIN:VEVENT
UID:5d9e461a027a7f4325d122f7@squarespace.com
DTSTAMP:20191217T210143Z
DTSTART:20200405T053000Z
DTEND:20200405T073000Z
SUMMARY:Reconnect: Happy Hormones
GEO:-36.802944;174.713097
LOCATION:Sista Trio's North Shore Headquarters\, THE 'TAJ' - Jen's Boutique 
 Yoga Place\, 134 Verran Road\, Birkenhead\, Auckland\, 0626
END:VEVENT
END:VCALENDAR
