BEGIN:VCALENDAR
VERSION:2.0
PRODID:-//Squarespace Inc/Squarespace 6//v6//EN
BEGIN:VEVENT
UID:5d9e909d26ea9454e03e4095@squarespace.com
DTSTAMP:20191217T210352Z
DTSTART:20201115T043000Z
DTEND:20201115T063000Z
SUMMARY:Reconnect: The second brain - The importance of Good Gut Health
GEO:-36.802944;174.713097
LOCATION:Sista Trio's North Shore Headquarters\, THE 'TAJ' - Jen's Boutique 
 Yoga Place\, 134 Verran Road\, Birkenhead\, Auckland\, 0626
END:VEVENT
END:VCALENDAR
