BEGIN:VCALENDAR
VERSION:2.0
PRODID:-//Squarespace Inc/Squarespace 6//v6//EN
BEGIN:VEVENT
UID:5d6ddba84f45fb0001479ea2@squarespace.com
DTSTAMP:20191007T075250Z
DTSTART:20191103T043000Z
DTEND:20191103T063000Z
SUMMARY:Reconnect: Sleep Tight
GEO:-36.802944;174.713097
LOCATION:Sista Trio's North Shore Headquarters\, THE 'TAJ' - Jen's Boutique 
 Yoga Place\, 134 Verran Road\, Birkenhead\, Auckland\, 0626
END:VEVENT
END:VCALENDAR
