BEGIN:VCALENDAR
VERSION:2.0
PRODID:-//Squarespace Inc/Squarespace 6//v6//EN
BEGIN:VEVENT
UID:5d951e17c3d0bc7f393a4daa@squarespace.com
DTSTAMP:20191007T064859Z
DTSTART:20191215T043000Z
DTEND:20191215T063000Z
SUMMARY:Reconnect: Sista Trio Tribe X-Mas Party
GEO:-36.802944;174.713097
LOCATION:Sista Trio's North Shore Headquarters\, THE 'TAJ' - Jens Boutique 
 Yoga Place\, 134 Verran Road\, Birkenhead\, Auckland\, 0626
END:VEVENT
END:VCALENDAR
