BEGIN:VCALENDAR
VERSION:2.0
PRODID:-//Squarespace Inc/Squarespace 6//v6//EN
BEGIN:VEVENT
UID:5d1140ea0773e5000104f527@squarespace.com
DTSTAMP:20191007T064725Z
DTSTART:20191117T043000Z
DTEND:20191117T063000Z
SUMMARY:Reconnect: Antidote to stress - Meditation 101
GEO:-36.919998;174.67682
LOCATION:Sista Trio's West AK Headquarters\, Coryn's Cosy Naturopath Clinic 
 Space\, 54 Willerton Avenue\, New Lynn\, Auckland\, 0600
END:VEVENT
END:VCALENDAR
