BEGIN:VCALENDAR
VERSION:2.0
PRODID:-//Squarespace Inc/Squarespace 6//v6//EN
BEGIN:VEVENT
UID:5d53754cd7d2600001c6cc57@squarespace.com
DTSTAMP:20190823T025753Z
DTSTART:20190825T053000Z
DTEND:20190825T073000Z
SUMMARY:Monthly Reconnect: Breathe Easy
GEO:-36.919998;174.67682
LOCATION:Sista Trio Headquarters\, 54 Willerton Avenue\, Auckland\, Aucklan
 d\, 0600\, New Zealand
END:VEVENT
END:VCALENDAR
