BEGIN:VCALENDAR
VERSION:2.0
PRODID:-//Squarespace Inc/Squarespace 6//v6//EN
BEGIN:VEVENT
UID:5d114046eb1970000166404f@squarespace.com
DTSTAMP:20190912T231253Z
DTSTART:20190922T053000Z
DTEND:20190922T073000Z
SUMMARY:Reconnect: Food Overwhelm
GEO:-36.919998;174.67682
LOCATION:Sista Trio's West AK Headquarters\, Coryn's Cosy Naturopath Clinic 
 Space\, 54 Willerton Avenue\, New Lynn\, Auckland 0600
END:VEVENT
END:VCALENDAR
