BEGIN:VCALENDAR
VERSION:2.0
PRODID:-//Squarespace Inc/Squarespace 6//v6//EN
BEGIN:VEVENT
UID:5df96cdc62595e7090902dad@squarespace.com
DTSTAMP:20191218T001047Z
DTSTART:20200801T203000Z
DTEND:20200802T023000Z
SUMMARY:Spoil Me Rotten Mini Retreat AUG 2020
GEO:-36.802944;174.713097
LOCATION:Sista Trio's North Shore Headquarters\, THE 'TAJ' - Jen's Boutique 
 Yoga Place\, 134 Verran Road\, Birkenhead\, Auckland\, 0626
END:VEVENT
END:VCALENDAR
