BEGIN:VCALENDAR
VERSION:2.0
PRODID:-//Squarespace Inc/Squarespace 6//v6//EN
BEGIN:VEVENT
UID:5df6e7e20027c56344cb85e1@squarespace.com
DTSTAMP:20191218T000825Z
DTSTART:20200214T193000Z
DTEND:20200215T013000Z
SUMMARY:Spoil Me Rotten Mini Retreat FEB 2020
GEO:-36.802944;174.713097
LOCATION:Sista Trio's North Shore Headquarters\, THE 'TAJ' - Jen's Boutique 
 Yoga Place\, 134 Verran Road\, Birkenhead\, Auckland\, 0626
END:VEVENT
END:VCALENDAR
