BEGIN:VCALENDAR
VERSION:2.0
PRODID:-//Squarespace Inc/Squarespace 6//v6//EN
BEGIN:VEVENT
UID:5df96bb4833c9f20389601ea@squarespace.com
DTSTAMP:20191218T000948Z
DTSTART:20200509T203000Z
DTEND:20200510T023000Z
SUMMARY:Spoil Me Rotten Mini Retreat MAY 2020
GEO:-36.802944;174.713097
LOCATION:Sista Trio's North Shore Headquarters\, THE 'TAJ' - Jen's Boutique 
 Yoga Place\, 134 Verran Road\, Birkenhead\, Auckland\, 0626
END:VEVENT
END:VCALENDAR
