BEGIN:VCALENDAR
VERSION:2.0
PRODID:-//Squarespace Inc/Squarespace 6//v6//EN
BEGIN:VEVENT
UID:5df96bd72db4124abc5762ae@squarespace.com
DTSTAMP:20191218T001108Z
DTSTART:20201106T193000Z
DTEND:20201107T013000Z
SUMMARY:Spoil Me Rotten Mini Retreat NOV 2020
GEO:-36.802944;174.713097
LOCATION:Sista Trio's North Shore Headquarters\, THE 'TAJ' - Jen's Boutique 
 Yoga Place\, 134 Verran Road\, Birkenhead\, Auckland\, 0626
END:VEVENT
END:VCALENDAR
