BEGIN:VCALENDAR
VERSION:2.0
PRODID:-//Squarespace Inc/Squarespace 6//v6//EN
BEGIN:VEVENT
UID:5df92eab858ee52577ac4009@squarespace.com
DTSTAMP:20191217T200504Z
DTSTART:20200909T030000Z
DTEND:20200911T020000Z
SUMMARY:Two Night Retreat: MANA - A Retreat Just for You
GEO:-36.861526;175.445565
LOCATION:Mana Retreat Centre\, 608 Manaia Road\, RD1\, Coromandel\, 3581\, 
 New Zealand
END:VEVENT
END:VCALENDAR
