BEGIN:VCALENDAR
VERSION:2.0
PRODID:-//Squarespace Inc/Squarespace 6//v6//EN
BEGIN:VEVENT
UID:5df92931ac89ee609a6ec5ff@squarespace.com
DTSTAMP:20191219T072057Z
DTSTART:20200313T030000Z
DTEND:20200315T020000Z
SUMMARY:Weekend Retreat: A Retreat Just for You - a space for inspiration
GEO:-36.987694;174.490752
LOCATION:Sacred Earth Retreat Centre\, 128 Lone Kauri Road\, Karekare\, Auc
 kland\, 0772\, New Zealand
END:VEVENT
END:VCALENDAR
