BEGIN:VCALENDAR
VERSION:2.0
PRODID:-//Squarespace Inc/Squarespace 6//v6//EN
BEGIN:VEVENT
UID:5d79663cae82ee6ff5de7b90@squarespace.com
DTSTAMP:20191217T234538Z
DTSTART:20200619T040000Z
DTEND:20200621T030000Z
SUMMARY:Weekend Retreat: A Retreat Just for You - replenish your soul
GEO:-36.986602;174.479668
LOCATION:New Zealand
END:VEVENT
END:VCALENDAR
