BEGIN:VCALENDAR
VERSION:2.0
PRODID:-//Squarespace Inc/Squarespace 6//v6//EN
BEGIN:VEVENT
UID:5d1142f17efb29000183339b@squarespace.com
DTSTAMP:20191007T200608Z
DTSTART:20191018T030000Z
DTEND:20191020T020000Z
SUMMARY:Weekend Retreat: Deep Dive into Sustainable Well-being
GEO:-36.987694;174.490752
LOCATION:Sacred Earth Retreat Centre\, 128 Lone Kauri Road\, Karekare\, Auc
 kland\, 0772\, New Zealand
END:VEVENT
END:VCALENDAR
